BEGIN:VCALENDAR
VERSION:2.0
PRODID:-//Privacy and Access Council of Canada - ECPv6.15.20//NONSGML v1.0//EN
CALSCALE:GREGORIAN
METHOD:PUBLISH
X-ORIGINAL-URL:https://pacc-ccap.ca
X-WR-CALDESC:Events for Privacy and Access Council of Canada
REFRESH-INTERVAL;VALUE=DURATION:PT1H
X-Robots-Tag:noindex
X-PUBLISHED-TTL:PT1H
BEGIN:VTIMEZONE
TZID:America/New_York
BEGIN:DAYLIGHT
TZOFFSETFROM:-0500
TZOFFSETTO:-0400
TZNAME:EDT
DTSTART:20240310T070000
END:DAYLIGHT
BEGIN:STANDARD
TZOFFSETFROM:-0400
TZOFFSETTO:-0500
TZNAME:EST
DTSTART:20241103T060000
END:STANDARD
BEGIN:DAYLIGHT
TZOFFSETFROM:-0500
TZOFFSETTO:-0400
TZNAME:EDT
DTSTART:20250309T070000
END:DAYLIGHT
BEGIN:STANDARD
TZOFFSETFROM:-0400
TZOFFSETTO:-0500
TZNAME:EST
DTSTART:20251102T060000
END:STANDARD
BEGIN:DAYLIGHT
TZOFFSETFROM:-0500
TZOFFSETTO:-0400
TZNAME:EDT
DTSTART:20260308T070000
END:DAYLIGHT
BEGIN:STANDARD
TZOFFSETFROM:-0400
TZOFFSETTO:-0500
TZNAME:EST
DTSTART:20261101T060000
END:STANDARD
END:VTIMEZONE
BEGIN:VEVENT
DTSTART;TZID=America/New_York:20250927T093000
DTEND;TZID=America/New_York:20250927T173000
DTSTAMP:20260421T232754
CREATED:20250308T154115Z
LAST-MODIFIED:20250308T154123Z
UID:10000122-1758965400-1758994200@pacc-ccap.ca
SUMMARY:Youth Internet Governance Forum Canada
DESCRIPTION:IGFs are a space for dialogue and discussion about the Internet and its evolution around the world. To date\, Canada has not had a Youth IGF. As distinct Internet stakeholders\, youth have grown up with the Internet\, helped shape its development\, but not necessarily been widely consulted on its growth and permeation in Canada. The Canada Youth IGF works to change this trajectory by bringing youth in Canada together\, both in-person and virtually\, for a day to discuss some of the most pressing Internet governance challenges in Canada. \n\n\n\nDeveloped by Youth IGF Canada\, Canada’s recognized Youth IGF Coordinator by the United Nations Global IGF\, and co-hosted by The Dais at Toronto Metropolitan University\, this event will build the leadership\, knowledge\, and networks of the Canadian youth Internet community.
URL:https://pacc-ccap.ca/events/youth-internet-governance-forum-canada/
CATEGORIES:Conference
END:VEVENT
END:VCALENDAR