BEGIN:VCALENDAR
VERSION:2.0
PRODID:-//Privacy and Access Council of Canada - ECPv6.15.20//NONSGML v1.0//EN
CALSCALE:GREGORIAN
METHOD:PUBLISH
X-WR-CALNAME:Privacy and Access Council of Canada
X-ORIGINAL-URL:https://pacc-ccap.ca
X-WR-CALDESC:Events for Privacy and Access Council of Canada
REFRESH-INTERVAL;VALUE=DURATION:PT1H
X-Robots-Tag:noindex
X-PUBLISHED-TTL:PT1H
BEGIN:VTIMEZONE
TZID:America/Toronto
BEGIN:DAYLIGHT
TZOFFSETFROM:-0500
TZOFFSETTO:-0400
TZNAME:EDT
DTSTART:20240310T070000
END:DAYLIGHT
BEGIN:STANDARD
TZOFFSETFROM:-0400
TZOFFSETTO:-0500
TZNAME:EST
DTSTART:20241103T060000
END:STANDARD
BEGIN:DAYLIGHT
TZOFFSETFROM:-0500
TZOFFSETTO:-0400
TZNAME:EDT
DTSTART:20250309T070000
END:DAYLIGHT
BEGIN:STANDARD
TZOFFSETFROM:-0400
TZOFFSETTO:-0500
TZNAME:EST
DTSTART:20251102T060000
END:STANDARD
BEGIN:DAYLIGHT
TZOFFSETFROM:-0500
TZOFFSETTO:-0400
TZNAME:EDT
DTSTART:20260308T070000
END:DAYLIGHT
BEGIN:STANDARD
TZOFFSETFROM:-0400
TZOFFSETTO:-0500
TZNAME:EST
DTSTART:20261101T060000
END:STANDARD
END:VTIMEZONE
BEGIN:VTIMEZONE
TZID:America/Edmonton
BEGIN:DAYLIGHT
TZOFFSETFROM:-0700
TZOFFSETTO:-0600
TZNAME:MDT
DTSTART:20240310T090000
END:DAYLIGHT
BEGIN:STANDARD
TZOFFSETFROM:-0600
TZOFFSETTO:-0700
TZNAME:MST
DTSTART:20241103T080000
END:STANDARD
BEGIN:DAYLIGHT
TZOFFSETFROM:-0700
TZOFFSETTO:-0600
TZNAME:MDT
DTSTART:20250309T090000
END:DAYLIGHT
BEGIN:STANDARD
TZOFFSETFROM:-0600
TZOFFSETTO:-0700
TZNAME:MST
DTSTART:20251102T080000
END:STANDARD
BEGIN:DAYLIGHT
TZOFFSETFROM:-0700
TZOFFSETTO:-0600
TZNAME:MDT
DTSTART:20260308T090000
END:DAYLIGHT
BEGIN:STANDARD
TZOFFSETFROM:-0600
TZOFFSETTO:-0700
TZNAME:MST
DTSTART:20261101T080000
END:STANDARD
END:VTIMEZONE
BEGIN:VTIMEZONE
TZID:Asia/Tokyo
BEGIN:STANDARD
TZOFFSETFROM:+0900
TZOFFSETTO:+0900
TZNAME:JST
DTSTART:20240101T000000
END:STANDARD
END:VTIMEZONE
BEGIN:VEVENT
DTSTART;TZID=America/Toronto:20251106T080000
DTEND;TZID=America/Toronto:20251107T170000
DTSTAMP:20260421T202625
CREATED:20250702T124028Z
LAST-MODIFIED:20250702T124051Z
UID:10000131-1762416000-1762534800@pacc-ccap.ca
SUMMARY:CBA Privacy and Access Law Symposium
DESCRIPTION:Is Canada standing still or moving forward on access\, privacy and AI?
URL:https://pacc-ccap.ca/events/cba-privacy-and-access-law/
CATEGORIES:Conference
END:VEVENT
BEGIN:VEVENT
DTSTART;TZID=America/Edmonton:20251124T080000
DTEND;TZID=America/Edmonton:20251126T170000
DTSTAMP:20260421T202625
CREATED:20250714T125928Z
LAST-MODIFIED:20250714T125938Z
UID:10000196-1763971200-1764176400@pacc-ccap.ca
SUMMARY:Canadian Open Data & GovMaker Summit
DESCRIPTION:The overarching theme of this year’s Summit is Governance ni the Digital Age: Unlcoking Public Value Through Data.  \n\n\n\nBuilding a Future-Ready Government with AI\, Data\, Digital Tools and Skills will focus on cultivating the skills and knowledge necessary for individuals working at the intersection of government\, technology\, and open data to thrive in a rapidly evolving landscape. \n\n\n\nOpen Data & Transparent Government will explore strategies for enhancing transparency through proactive information disclosure\, open data initiatives\, and citizen engagement platforms. \n\n\n\nEconomic Growth & Prosperity will examine how governments can leverage open data to stimulate innovation\, support entrepreneurship\, and create new economic opportunities. \n\n\n\nDigital Transformation in Healthcare will explore how digital tools\, interoperable health records\, and the ethical use of health data can lead to more efficient\, accessible\, and personalized healthcare systems. \n\n\n\n \n\n\n\n\n\n\n\n\n\n\n\nThis event qualifies for Continuing Professional Development credits applicable toward AAPP\, CAPP and MAPP designations.
URL:https://pacc-ccap.ca/events/canadian-open-data-govmaker-summit/
CATEGORIES:Conference
END:VEVENT
BEGIN:VEVENT
DTSTART;TZID=Asia/Tokyo:20251125T080000
DTEND;TZID=Asia/Tokyo:20251127T170000
DTSTAMP:20260421T202625
CREATED:20250702T124727Z
LAST-MODIFIED:20250702T124731Z
UID:10000132-1764057600-1764262800@pacc-ccap.ca
SUMMARY:The 20th International Workshop on Security
DESCRIPTION:The 20th International Workshop on Security (IWSEC 2025) will be held at ACROS Fukuoka\, Fukuoka\, Japan between November 25–27\, 2025. IWSEC is an annual international workshop\, co-organized by ISEC of IEICE and CSEC of IPSJ.
URL:https://pacc-ccap.ca/events/iwsec-2025/
CATEGORIES:CFP - Call for papers,Conference
END:VEVENT
END:VCALENDAR