BEGIN:VCALENDAR
VERSION:2.0
PRODID:-//Privacy and Access Council of Canada - ECPv6.15.20//NONSGML v1.0//EN
CALSCALE:GREGORIAN
METHOD:PUBLISH
X-WR-CALNAME:Privacy and Access Council of Canada
X-ORIGINAL-URL:https://pacc-ccap.ca
X-WR-CALDESC:Events for Privacy and Access Council of Canada
REFRESH-INTERVAL;VALUE=DURATION:PT1H
X-Robots-Tag:noindex
X-PUBLISHED-TTL:PT1H
BEGIN:VTIMEZONE
TZID:America/New_York
BEGIN:DAYLIGHT
TZOFFSETFROM:-0500
TZOFFSETTO:-0400
TZNAME:EDT
DTSTART:20250309T070000
END:DAYLIGHT
BEGIN:STANDARD
TZOFFSETFROM:-0400
TZOFFSETTO:-0500
TZNAME:EST
DTSTART:20251102T060000
END:STANDARD
BEGIN:DAYLIGHT
TZOFFSETFROM:-0500
TZOFFSETTO:-0400
TZNAME:EDT
DTSTART:20260308T070000
END:DAYLIGHT
BEGIN:STANDARD
TZOFFSETFROM:-0400
TZOFFSETTO:-0500
TZNAME:EST
DTSTART:20261101T060000
END:STANDARD
BEGIN:DAYLIGHT
TZOFFSETFROM:-0500
TZOFFSETTO:-0400
TZNAME:EDT
DTSTART:20270314T070000
END:DAYLIGHT
BEGIN:STANDARD
TZOFFSETFROM:-0400
TZOFFSETTO:-0500
TZNAME:EST
DTSTART:20271107T060000
END:STANDARD
END:VTIMEZONE
BEGIN:VEVENT
DTSTART;TZID=America/New_York:20260318T080000
DTEND;TZID=America/New_York:20260320T170000
DTSTAMP:20260421T135543
CREATED:20251001T200039Z
LAST-MODIFIED:20260215T141719Z
UID:10000126-1773820800-1774026000@pacc-ccap.ca
SUMMARY:Privacy and Data Governance Congress 2026
DESCRIPTION:We’re looking forward to welcoming you to the 2026 edition of the Privacy & Data Governance Congress on March 18\, 2026 at the University of Ottawa where you’ll be able to: \n\n\n\nExplore the crossroads of privacy\, access\, governance\, compliance\, law\, and technology and how they matter to you\, your career\, and your organization. \n\n\n\nEnjoy three full days of learning and thought-provoking discussions\, keynotes\, panels\, and plenary sessions by subject matter experts in privacy\, law\, security\, and risk management. \n\n\n\nContribute to interactive in-person Q & A and get unscripted answers. Make the most of unparalleled in-person networking opportunities. \n\n\n\nSavor gourmet treats at Breakfast\, Lunch\, and Coffee. \n\n\n\nRegards\, \n\n\n\nThe PACC Team \n\n\n\n\n\n\n\n\n\n\n\nThis event qualifies for Continuing Professional Development credits applicable toward Associate Access and Privacy Professional (AAPP)®\, Chartered Access and Privacy Professional (CAPP)®\, and Master Access and Privacy Professional (MAPP)® designations. \n\n\n\nThe content of this event may be recognized for continuing legal educational requirements by Law Societies in Canada and elsewhere. If you are in Alberta or another jurisdiction where CPD learning activity is a mandatory element of your annual Continuing Professional Development Plan\, we encourage you to consider including this event.
URL:https://pacc-ccap.ca/events/privacy-data-governance-congress-2026/
CATEGORIES:Conference
ATTACH;FMTTYPE=image/jpeg:https://pacc-ccap.ca/pacc/wp-content/uploads/Banner-Congress26.jpg
END:VEVENT
END:VCALENDAR