BEGIN:VCALENDAR
VERSION:2.0
PRODID:-//Privacy and Access Council of Canada - ECPv6.15.20//NONSGML v1.0//EN
CALSCALE:GREGORIAN
METHOD:PUBLISH
X-ORIGINAL-URL:https://pacc-ccap.ca
X-WR-CALDESC:Events for Privacy and Access Council of Canada
REFRESH-INTERVAL;VALUE=DURATION:PT1H
X-Robots-Tag:noindex
X-PUBLISHED-TTL:PT1H
BEGIN:VTIMEZONE
TZID:America/Chicago
BEGIN:DAYLIGHT
TZOFFSETFROM:-0600
TZOFFSETTO:-0500
TZNAME:CDT
DTSTART:20250309T080000
END:DAYLIGHT
BEGIN:STANDARD
TZOFFSETFROM:-0500
TZOFFSETTO:-0600
TZNAME:CST
DTSTART:20251102T070000
END:STANDARD
BEGIN:DAYLIGHT
TZOFFSETFROM:-0600
TZOFFSETTO:-0500
TZNAME:CDT
DTSTART:20260308T080000
END:DAYLIGHT
BEGIN:STANDARD
TZOFFSETFROM:-0500
TZOFFSETTO:-0600
TZNAME:CST
DTSTART:20261101T070000
END:STANDARD
BEGIN:DAYLIGHT
TZOFFSETFROM:-0600
TZOFFSETTO:-0500
TZNAME:CDT
DTSTART:20270314T080000
END:DAYLIGHT
BEGIN:STANDARD
TZOFFSETFROM:-0500
TZOFFSETTO:-0600
TZNAME:CST
DTSTART:20271107T070000
END:STANDARD
END:VTIMEZONE
BEGIN:VEVENT
DTSTART;TZID=America/Chicago:20260625T080000
DTEND;TZID=America/Chicago:20260625T170000
DTSTAMP:20260421T155357
CREATED:20260421T141536Z
LAST-MODIFIED:20260421T141554Z
UID:10000241-1782374400-1782406800@pacc-ccap.ca
SUMMARY:8th Annual PrivaCI Symposium
DESCRIPTION:The aim of the symposium is to foster interaction among diverse communities of research and practice using Contextual Integrity to reason about privacy\, design and evaluate\, craft regulation\, and generate formal logics for privacy.
URL:https://pacc-ccap.ca/events/privaci-symposium/
CATEGORIES:Conference
END:VEVENT
END:VCALENDAR