BEGIN:VCALENDAR
VERSION:2.0
PRODID:-//Privacy and Access Council of Canada - ECPv6.15.20//NONSGML v1.0//EN
CALSCALE:GREGORIAN
METHOD:PUBLISH
X-WR-CALNAME:Privacy and Access Council of Canada
X-ORIGINAL-URL:https://pacc-ccap.ca
X-WR-CALDESC:Events for Privacy and Access Council of Canada
REFRESH-INTERVAL;VALUE=DURATION:PT1H
X-Robots-Tag:noindex
X-PUBLISHED-TTL:PT1H
BEGIN:VTIMEZONE
TZID:Europe/Lisbon
BEGIN:DAYLIGHT
TZOFFSETFROM:+0000
TZOFFSETTO:+0100
TZNAME:WEST
DTSTART:20250330T010000
END:DAYLIGHT
BEGIN:STANDARD
TZOFFSETFROM:+0100
TZOFFSETTO:+0000
TZNAME:WET
DTSTART:20251026T010000
END:STANDARD
BEGIN:DAYLIGHT
TZOFFSETFROM:+0000
TZOFFSETTO:+0100
TZNAME:WEST
DTSTART:20260329T010000
END:DAYLIGHT
BEGIN:STANDARD
TZOFFSETFROM:+0100
TZOFFSETTO:+0000
TZNAME:WET
DTSTART:20261025T010000
END:STANDARD
BEGIN:DAYLIGHT
TZOFFSETFROM:+0000
TZOFFSETTO:+0100
TZNAME:WEST
DTSTART:20270328T010000
END:DAYLIGHT
BEGIN:STANDARD
TZOFFSETFROM:+0100
TZOFFSETTO:+0000
TZNAME:WET
DTSTART:20271031T010000
END:STANDARD
END:VTIMEZONE
BEGIN:VTIMEZONE
TZID:America/Toronto
BEGIN:DAYLIGHT
TZOFFSETFROM:-0500
TZOFFSETTO:-0400
TZNAME:EDT
DTSTART:20250309T070000
END:DAYLIGHT
BEGIN:STANDARD
TZOFFSETFROM:-0400
TZOFFSETTO:-0500
TZNAME:EST
DTSTART:20251102T060000
END:STANDARD
BEGIN:DAYLIGHT
TZOFFSETFROM:-0500
TZOFFSETTO:-0400
TZNAME:EDT
DTSTART:20260308T070000
END:DAYLIGHT
BEGIN:STANDARD
TZOFFSETFROM:-0400
TZOFFSETTO:-0500
TZNAME:EST
DTSTART:20261101T060000
END:STANDARD
BEGIN:DAYLIGHT
TZOFFSETFROM:-0500
TZOFFSETTO:-0400
TZNAME:EDT
DTSTART:20270314T070000
END:DAYLIGHT
BEGIN:STANDARD
TZOFFSETFROM:-0400
TZOFFSETTO:-0500
TZNAME:EST
DTSTART:20271107T060000
END:STANDARD
END:VTIMEZONE
BEGIN:VEVENT
DTSTART;TZID=Europe/Lisbon:20260706T080000
DTEND;TZID=Europe/Lisbon:20260710T170000
DTSTAMP:20260421T235630
CREATED:20260421T141812Z
LAST-MODIFIED:20260421T141846Z
UID:10000242-1783324800-1783702800@pacc-ccap.ca
SUMMARY:11th IEEE European Symposium on Security and Privacy
DESCRIPTION:
URL:https://pacc-ccap.ca/events/11th-ieee-european-symposium-on-security-and-privacy/
CATEGORIES:Conference
END:VEVENT
BEGIN:VEVENT
DTSTART;TZID=America/Toronto:20260826T080000
DTEND;TZID=America/Toronto:20260828T170000
DTSTAMP:20260421T235630
CREATED:20260421T143055Z
LAST-MODIFIED:20260421T143251Z
UID:10000243-1787731200-1787936400@pacc-ccap.ca
SUMMARY:23rd Annual International Conference on Privacy\, Security\, and Trust (PST2026)
DESCRIPTION:The 23rd Annual International Conference on Privacy\, Security & Trust (PST) provides a premier forum for sharing advances in cybersecurity research and security applications. PST2026 will be held in Ottawa\, Canada\, and will offer one industry day followed by two days of keynotes and technical presentations focused on Privacy\, Security\, and Trust\, along with a special track on Emerging Technologies and Trends.
URL:https://pacc-ccap.ca/events/pst/
CATEGORIES:Conference
END:VEVENT
END:VCALENDAR