BEGIN:VCALENDAR
VERSION:2.0
PRODID:-//Privacy and Access Council of Canada - ECPv6.15.20//NONSGML v1.0//EN
CALSCALE:GREGORIAN
METHOD:PUBLISH
X-WR-CALNAME:Privacy and Access Council of Canada
X-ORIGINAL-URL:https://pacc-ccap.ca
X-WR-CALDESC:Events for Privacy and Access Council of Canada
REFRESH-INTERVAL;VALUE=DURATION:PT1H
X-Robots-Tag:noindex
X-PUBLISHED-TTL:PT1H
BEGIN:VTIMEZONE
TZID:America/Edmonton
BEGIN:DAYLIGHT
TZOFFSETFROM:-0700
TZOFFSETTO:-0600
TZNAME:MDT
DTSTART:20250309T090000
END:DAYLIGHT
BEGIN:STANDARD
TZOFFSETFROM:-0600
TZOFFSETTO:-0700
TZNAME:MST
DTSTART:20251102T080000
END:STANDARD
BEGIN:DAYLIGHT
TZOFFSETFROM:-0700
TZOFFSETTO:-0600
TZNAME:MDT
DTSTART:20260308T090000
END:DAYLIGHT
BEGIN:STANDARD
TZOFFSETFROM:-0600
TZOFFSETTO:-0700
TZNAME:MST
DTSTART:20261101T080000
END:STANDARD
BEGIN:DAYLIGHT
TZOFFSETFROM:-0700
TZOFFSETTO:-0600
TZNAME:MDT
DTSTART:20270314T090000
END:DAYLIGHT
BEGIN:STANDARD
TZOFFSETFROM:-0600
TZOFFSETTO:-0700
TZNAME:MST
DTSTART:20271107T080000
END:STANDARD
END:VTIMEZONE
BEGIN:VEVENT
DTSTART;TZID=America/Edmonton:20260211T120000
DTEND;TZID=America/Edmonton:20260211T130000
DTSTAMP:20260423T102413
CREATED:20260208T194525Z
LAST-MODIFIED:20260210T002315Z
UID:10000218-1770811200-1770814800@pacc-ccap.ca
SUMMARY:Wisdom Wednesday Webinar: Convention 108+ and Digital Transparency
DESCRIPTION:Convention 108+ is the only legal standard framework capable of facilitating digital sovereignty\, thanks to its transnational scope. Canada was instrumental in developing the global treaty\, which is yet to be ratified.  Join Peter Kimpian\, Secretary to the Council of Europe Committee of Convention 108\, and Mark Lizar\, executive director of the Digital Transparency Lab\, to understand Convention 108+\, what it will take to operationalize digital transparency\, and why ratifiying the Convention is important to safeguard privacy and reduce organizational risk.
URL:https://pacc-ccap.ca/events/wisdom-wednesday-webinar-convention-108/
CATEGORIES:Webinar
ATTACH;FMTTYPE=image/jpeg:https://pacc-ccap.ca/pacc/wp-content/uploads/Banner-WWW.jpg
LOCATION:https://pacc-ccap.ca/events/wisdom-wednesday-webinar-convention-108/
END:VEVENT
END:VCALENDAR