BEGIN:VCALENDAR
VERSION:2.0
PRODID:-//Privacy and Access Council of Canada - ECPv6.15.20//NONSGML v1.0//EN
CALSCALE:GREGORIAN
METHOD:PUBLISH
X-ORIGINAL-URL:https://pacc-ccap.ca
X-WR-CALDESC:Events for Privacy and Access Council of Canada
REFRESH-INTERVAL;VALUE=DURATION:PT1H
X-Robots-Tag:noindex
X-PUBLISHED-TTL:PT1H
BEGIN:VTIMEZONE
TZID:America/Toronto
BEGIN:DAYLIGHT
TZOFFSETFROM:-0500
TZOFFSETTO:-0400
TZNAME:EDT
DTSTART:20250309T070000
END:DAYLIGHT
BEGIN:STANDARD
TZOFFSETFROM:-0400
TZOFFSETTO:-0500
TZNAME:EST
DTSTART:20251102T060000
END:STANDARD
BEGIN:DAYLIGHT
TZOFFSETFROM:-0500
TZOFFSETTO:-0400
TZNAME:EDT
DTSTART:20260308T070000
END:DAYLIGHT
BEGIN:STANDARD
TZOFFSETFROM:-0400
TZOFFSETTO:-0500
TZNAME:EST
DTSTART:20261101T060000
END:STANDARD
BEGIN:DAYLIGHT
TZOFFSETFROM:-0500
TZOFFSETTO:-0400
TZNAME:EDT
DTSTART:20270314T070000
END:DAYLIGHT
BEGIN:STANDARD
TZOFFSETFROM:-0400
TZOFFSETTO:-0500
TZNAME:EST
DTSTART:20271107T060000
END:STANDARD
END:VTIMEZONE
BEGIN:VEVENT
DTSTART;TZID=America/Toronto:20260409T120000
DTEND;TZID=America/Toronto:20260409T130000
DTSTAMP:20260424T005823
CREATED:20260327T144914Z
LAST-MODIFIED:20260409T132309Z
UID:10000232-1775736000-1775739600@pacc-ccap.ca
SUMMARY:Bill C-22: Strong borders are just the start
DESCRIPTION:Canadians who celebrated when Bill C-2 was halted were pleased at government assurances that its replacement would be an improvement. Bill C-22 is that replacement — that provides ‘lawful access’ and establishes a surveillance infrastructure that could affect Canadians in surprising ways.  \n\n\n\nJoin Natalie Campbell\, Senior Director\, North American Government and Regulatory Affairs with the Internet Society\, and Matt Hatfield\, Executive Director of OpenMedia\, to learn more about what Bill C-22 will do. \n\n\n\nTime: This interactive online event will be held on Thursday\, 9 April 2026 from 12:00 to 1:00 p.m. (Eastern Time).  \n\n\n\n\n\n\n\n\n\n\n\n\n\n\n\nThis event qualifies for Continuing Professional Development credits applicable toward Associate Access and Privacy Professional (AAPP)®\, Chartered Access and Privacy Professional (CAPP)®\, and Master Access and Privacy Professional (MAPP)® designations.
URL:https://pacc-ccap.ca/events/c22/
CATEGORIES:Webinar
ATTACH;FMTTYPE=image/jpeg:https://pacc-ccap.ca/pacc/wp-content/uploads/Banner-WWW-C22-1.jpg
LOCATION:https://pacc-ccap.ca/events/c22/
END:VEVENT
END:VCALENDAR