BEGIN:VCALENDAR
VERSION:2.0
PRODID:-//Privacy and Access Council of Canada - ECPv6.15.20//NONSGML v1.0//EN
CALSCALE:GREGORIAN
METHOD:PUBLISH
X-WR-CALNAME:Privacy and Access Council of Canada
X-ORIGINAL-URL:https://pacc-ccap.ca
X-WR-CALDESC:Events for Privacy and Access Council of Canada
REFRESH-INTERVAL;VALUE=DURATION:PT1H
X-Robots-Tag:noindex
X-PUBLISHED-TTL:PT1H
BEGIN:VTIMEZONE
TZID:America/Denver
BEGIN:DAYLIGHT
TZOFFSETFROM:-0700
TZOFFSETTO:-0600
TZNAME:MDT
DTSTART:20260308T090000
END:DAYLIGHT
BEGIN:STANDARD
TZOFFSETFROM:-0600
TZOFFSETTO:-0700
TZNAME:MST
DTSTART:20261101T080000
END:STANDARD
BEGIN:DAYLIGHT
TZOFFSETFROM:-0700
TZOFFSETTO:-0600
TZNAME:MDT
DTSTART:20270314T090000
END:DAYLIGHT
BEGIN:STANDARD
TZOFFSETFROM:-0600
TZOFFSETTO:-0700
TZNAME:MST
DTSTART:20271107T080000
END:STANDARD
BEGIN:DAYLIGHT
TZOFFSETFROM:-0700
TZOFFSETTO:-0600
TZNAME:MDT
DTSTART:20280312T090000
END:DAYLIGHT
BEGIN:STANDARD
TZOFFSETFROM:-0600
TZOFFSETTO:-0700
TZNAME:MST
DTSTART:20281105T080000
END:STANDARD
BEGIN:DAYLIGHT
TZOFFSETFROM:-0700
TZOFFSETTO:-0600
TZNAME:MDT
DTSTART:20290311T090000
END:DAYLIGHT
BEGIN:STANDARD
TZOFFSETFROM:-0600
TZOFFSETTO:-0700
TZNAME:MST
DTSTART:20291104T080000
END:STANDARD
BEGIN:DAYLIGHT
TZOFFSETFROM:-0700
TZOFFSETTO:-0600
TZNAME:MDT
DTSTART:20300310T090000
END:DAYLIGHT
BEGIN:STANDARD
TZOFFSETFROM:-0600
TZOFFSETTO:-0700
TZNAME:MST
DTSTART:20301103T080000
END:STANDARD
BEGIN:DAYLIGHT
TZOFFSETFROM:-0700
TZOFFSETTO:-0600
TZNAME:MDT
DTSTART:20310309T090000
END:DAYLIGHT
BEGIN:STANDARD
TZOFFSETFROM:-0600
TZOFFSETTO:-0700
TZNAME:MST
DTSTART:20311102T080000
END:STANDARD
END:VTIMEZONE
BEGIN:VEVENT
DTSTART;TZID=America/Denver:20270928T080000
DTEND;TZID=America/Denver:20270928T170000
DTSTAMP:20260425T092634
CREATED:20260421T142709Z
LAST-MODIFIED:20260421T142732Z
UID:10000098-1822118400-1822150800@pacc-ccap.ca
SUMMARY:International Right To Know Day
DESCRIPTION:International Right To Know Day is a day to celebrate our right to right to seek and access information. \n\n\n\nRTK Day underscores the importance of being able to know what is happening around us to take action for our safety and improvement.
URL:https://pacc-ccap.ca/events/rtk/2027-09-28/
ATTACH;FMTTYPE=image/jpeg:https://pacc-ccap.ca/pacc/wp-content/uploads/2023/09/Banner-—-RTK-.jpg
END:VEVENT
BEGIN:VEVENT
DTSTART;TZID=America/Denver:20280928T080000
DTEND;TZID=America/Denver:20280928T170000
DTSTAMP:20260425T092634
CREATED:20260421T142709Z
LAST-MODIFIED:20260421T142732Z
UID:10000099-1853740800-1853773200@pacc-ccap.ca
SUMMARY:International Right To Know Day
DESCRIPTION:International Right To Know Day is a day to celebrate our right to right to seek and access information. \n\n\n\nRTK Day underscores the importance of being able to know what is happening around us to take action for our safety and improvement.
URL:https://pacc-ccap.ca/events/rtk/2028-09-28/
ATTACH;FMTTYPE=image/jpeg:https://pacc-ccap.ca/pacc/wp-content/uploads/2023/09/Banner-—-RTK-.jpg
END:VEVENT
BEGIN:VEVENT
DTSTART;TZID=America/Denver:20290928T080000
DTEND;TZID=America/Denver:20290928T170000
DTSTAMP:20260425T092634
CREATED:20260421T142709Z
LAST-MODIFIED:20260421T142732Z
UID:10000100-1885276800-1885309200@pacc-ccap.ca
SUMMARY:International Right To Know Day
DESCRIPTION:International Right To Know Day is a day to celebrate our right to right to seek and access information. \n\n\n\nRTK Day underscores the importance of being able to know what is happening around us to take action for our safety and improvement.
URL:https://pacc-ccap.ca/events/rtk/2029-09-28/
ATTACH;FMTTYPE=image/jpeg:https://pacc-ccap.ca/pacc/wp-content/uploads/2023/09/Banner-—-RTK-.jpg
END:VEVENT
BEGIN:VEVENT
DTSTART;TZID=America/Denver:20300928T080000
DTEND;TZID=America/Denver:20300928T170000
DTSTAMP:20260425T092634
CREATED:20260421T142709Z
LAST-MODIFIED:20260421T142732Z
UID:10000213-1916812800-1916845200@pacc-ccap.ca
SUMMARY:International Right To Know Day
DESCRIPTION:International Right To Know Day is a day to celebrate our right to right to seek and access information. \n\n\n\nRTK Day underscores the importance of being able to know what is happening around us to take action for our safety and improvement.
URL:https://pacc-ccap.ca/events/rtk/2030-09-28/
ATTACH;FMTTYPE=image/jpeg:https://pacc-ccap.ca/pacc/wp-content/uploads/2023/09/Banner-—-RTK-.jpg
END:VEVENT
END:VCALENDAR