BEGIN:VCALENDAR
VERSION:2.0
PRODID:-//Privacy and Access Council of Canada - ECPv6.15.20//NONSGML v1.0//EN
CALSCALE:GREGORIAN
METHOD:PUBLISH
X-WR-CALNAME:Privacy and Access Council of Canada
X-ORIGINAL-URL:https://pacc-ccap.ca
X-WR-CALDESC:Events for Privacy and Access Council of Canada
REFRESH-INTERVAL;VALUE=DURATION:PT1H
X-Robots-Tag:noindex
X-PUBLISHED-TTL:PT1H
BEGIN:VTIMEZONE
TZID:America/Denver
BEGIN:DAYLIGHT
TZOFFSETFROM:-0700
TZOFFSETTO:-0600
TZNAME:MDT
DTSTART:20240310T090000
END:DAYLIGHT
BEGIN:STANDARD
TZOFFSETFROM:-0600
TZOFFSETTO:-0700
TZNAME:MST
DTSTART:20241103T080000
END:STANDARD
BEGIN:DAYLIGHT
TZOFFSETFROM:-0700
TZOFFSETTO:-0600
TZNAME:MDT
DTSTART:20250309T090000
END:DAYLIGHT
BEGIN:STANDARD
TZOFFSETFROM:-0600
TZOFFSETTO:-0700
TZNAME:MST
DTSTART:20251102T080000
END:STANDARD
BEGIN:DAYLIGHT
TZOFFSETFROM:-0700
TZOFFSETTO:-0600
TZNAME:MDT
DTSTART:20260308T090000
END:DAYLIGHT
BEGIN:STANDARD
TZOFFSETFROM:-0600
TZOFFSETTO:-0700
TZNAME:MST
DTSTART:20261101T080000
END:STANDARD
END:VTIMEZONE
BEGIN:VTIMEZONE
TZID:America/New_York
BEGIN:DAYLIGHT
TZOFFSETFROM:-0500
TZOFFSETTO:-0400
TZNAME:EDT
DTSTART:20240310T070000
END:DAYLIGHT
BEGIN:STANDARD
TZOFFSETFROM:-0400
TZOFFSETTO:-0500
TZNAME:EST
DTSTART:20241103T060000
END:STANDARD
BEGIN:DAYLIGHT
TZOFFSETFROM:-0500
TZOFFSETTO:-0400
TZNAME:EDT
DTSTART:20250309T070000
END:DAYLIGHT
BEGIN:STANDARD
TZOFFSETFROM:-0400
TZOFFSETTO:-0500
TZNAME:EST
DTSTART:20251102T060000
END:STANDARD
BEGIN:DAYLIGHT
TZOFFSETFROM:-0500
TZOFFSETTO:-0400
TZNAME:EDT
DTSTART:20260308T070000
END:DAYLIGHT
BEGIN:STANDARD
TZOFFSETFROM:-0400
TZOFFSETTO:-0500
TZNAME:EST
DTSTART:20261101T060000
END:STANDARD
END:VTIMEZONE
BEGIN:VEVENT
DTSTART;TZID=America/Denver:20250714T080000
DTEND;TZID=America/Denver:20250719T170000
DTSTAMP:20260425T064013
CREATED:20241129T141428Z
LAST-MODIFIED:20241204T005423Z
UID:10000102-1752480000-1752944400@pacc-ccap.ca
SUMMARY:Privacy Enhancing Technologies Symposium
DESCRIPTION:The annual Privacy Enhancing Technologies Symposium (PETS) brings together privacy experts from around the world to discuss recent advances and new perspectives on research in privacy technologies. PETS addresses the design and realization of privacy services for the Internet and other digital systems and communication networks.
URL:https://pacc-ccap.ca/events/pets/
CATEGORIES:Conference
END:VEVENT
BEGIN:VEVENT
DTSTART;TZID=America/Denver:20250709T100000
DTEND;TZID=America/Denver:20250709T110000
DTSTAMP:20260425T064013
CREATED:20250625T222022Z
LAST-MODIFIED:20250710T011353Z
UID:10000128-1752055200-1752058800@pacc-ccap.ca
SUMMARY:Crossing the Line: Canada's Strong Borders Act
DESCRIPTION:The Strong Borders Act\, Bill C-2\, that is intended to improve border security\, has come under fire by hundreds of privacy professionals\, lawyers\, academics\, and civil society organizations concerned about the sweeping surveillance powers it grants to the Canadian government and law enforcement agencies. \n\n\n\nAmong other things\, Bill C-2 is designed “to facilitate access to basic information that will assist in the investigation of federal offences through an information demand or a judicial production order to persons who provide services to the public.” The breadth of that provision\, and others\, will have significant implications for privacy practitioners grappling with how to comply with Bill C-2 and with privacy laws. \n\n\n\nJoin law professor Robert Diab to explore the practical implications of Canada’s new Border Security legislation. \n\n\n\nThe Zoom link will be sent to registered attendees the day before the event. \n\n\n\nRegistration is now closed. Sign up at pacc-ccap.ca to keep up to date on the latest news and analysis about privacy\, access\, and data protection laws\, practices\, trends\, opportunities\, and PACC initiatives. \n\n\n\n\n\nRobert Diab is a Professor in the Faculty of Law at Thompson Rivers University in Kamloops BC\, and a co-author of Search and Seizure (Irwin Law\, 2023). His scholarship and commentary on law\, technology\, and privacy has appeared in venues that range from the McGill and Osgoode Hall Law Journals\, to Tech Policy Press and Newsweek. He has contributed to federal and provincial commissions of inquiry\, and continues to be involved in criminal and constitutional litigation. \n\n\n\n\n  
URL:https://pacc-ccap.ca/events/www-c2/
CATEGORIES:Webinar
ATTACH;FMTTYPE=image/jpeg:https://pacc-ccap.ca/pacc/wp-content/uploads/2025/07/JT-C2.jpg
LOCATION:https://pacc-ccap.ca/events/www-c2/
END:VEVENT
BEGIN:VEVENT
DTSTART;TZID=America/Denver:20250625T080000
DTEND;TZID=America/Denver:20250627T170000
DTSTAMP:20260425T064013
CREATED:20250407T152324Z
LAST-MODIFIED:20250407T152332Z
UID:10000125-1750838400-1751043600@pacc-ccap.ca
SUMMARY:National Cybersecurity Consortium Conference
DESCRIPTION:The National Cybersecurity Consortium (NCC)’s 2025 conference will be a hub for Canadian experts and leaders in cybersecurity to convene\, exchange ideas\, expand professional networks\, and co-create strategies to elevate the country’s cybersecurity ecosystem. This event is catered to those leading innovation\, senior and emerging researchers\, and supporters of cutting-edge Canadian technology who all share a commitment to advancing the field. 
URL:https://pacc-ccap.ca/events/national-cybersecurity-consortium-conference/
END:VEVENT
BEGIN:VEVENT
DTSTART;TZID=America/Denver:20250623T080000
DTEND;TZID=America/Denver:20250625T170000
DTSTAMP:20260425T064013
CREATED:20250407T132552Z
LAST-MODIFIED:20250407T132605Z
UID:10000124-1750665600-1750870800@pacc-ccap.ca
SUMMARY:International Conference of Information Commissioners (ICIC)
DESCRIPTION:The International Conference connects Information Commissioners\, Ombudspersons and other bodies charged with overseeing the implementation of Access to Public Information legislation\, in order to foster the protection and the promotion of access to public information as a fundamental pillar to social\, economic and democratic governance.
URL:https://pacc-ccap.ca/events/international-conference-of-information-commissioners-icic/
ATTACH;FMTTYPE=image/jpeg:https://pacc-ccap.ca/pacc/wp-content/uploads/2025/04/JT.jpg
END:VEVENT
BEGIN:VEVENT
DTSTART;TZID=America/Denver:20250529T080000
DTEND;TZID=America/Denver:20250530T170000
DTSTAMP:20260425T064013
CREATED:20241129T140924Z
LAST-MODIFIED:20241204T005447Z
UID:10000101-1748505600-1748624400@pacc-ccap.ca
SUMMARY:Privacy Law Scholars Conference
DESCRIPTION:PLSC is the premier academic conference of privacy\, law\, and technology scholars\, researchers\, and practitioners in the world. We incubate and critique scholarship at the vanguard of the field of law and technology.
URL:https://pacc-ccap.ca/events/plsc/
CATEGORIES:Conference
ATTACH;FMTTYPE=image/jpeg:https://pacc-ccap.ca/pacc/wp-content/uploads/2024/11/JT-PLSC.jpg
END:VEVENT
BEGIN:VEVENT
DTSTART;TZID=America/Denver:20250512T080000
DTEND;TZID=America/Denver:20250516T170000
DTSTAMP:20260425T064013
CREATED:20241129T142723Z
LAST-MODIFIED:20241204T013919Z
UID:10000103-1747036800-1747414800@pacc-ccap.ca
SUMMARY:Privacy Symposium
DESCRIPTION:The Privacy Symposium aims at promoting international dialogue\, cooperation\, and knowledge sharing on data protection\, compliance\, and innovative technologies. \n\n\n\nThe Privacy Symposium provides a venue for data protection professionals\, experts\, authorities and researchers to meet and discuss: \n\n\n\n\nLatest and upcoming changes in data processing regulations\n\n\n\nInternational cooperation and convergence in data protection\n\n\n\nEmerging technologies and data protection compliance\n\n\n\nFuture demands and needs for data protection compliance\n\n\n\nResearch and innovation in data protection and compliance
URL:https://pacc-ccap.ca/events/privacy-symposium/
CATEGORIES:Conference
ATTACH;FMTTYPE=image/jpeg:https://pacc-ccap.ca/pacc/wp-content/uploads/2024/11/JT-PS.jpg
END:VEVENT
BEGIN:VEVENT
DTSTART;TZID=America/Denver:20250512T080000
DTEND;TZID=America/Denver:20250514T170000
DTSTAMP:20260425T064013
CREATED:20241129T143209Z
LAST-MODIFIED:20241129T143329Z
UID:10000104-1747036800-1747242000@pacc-ccap.ca
SUMMARY:IEEE Symposium on Security and Privacy
DESCRIPTION:Since 1980\, the IEEE Symposium on Security and Privacy has been the premier forum for presenting developments in computer security and electronic privacy\, and for bringing together researchers and practitioners in the field. The 2025 Symposium will mark the 46th annual meeting of this flagship conference.
URL:https://pacc-ccap.ca/events/ieee-sp/
END:VEVENT
BEGIN:VEVENT
DTSTART;TZID=America/Denver:20250429T163000
DTEND;TZID=America/Denver:20250429T170000
DTSTAMP:20260425T064013
CREATED:20241205T143754Z
LAST-MODIFIED:20241205T143920Z
UID:10000113-1745944200-1745946000@pacc-ccap.ca
SUMMARY:CETaS Annual Showcase 2025
DESCRIPTION:the CETaS Annual Showcase 2025\, hosted by The Alan Turing Institute’s Centre for Emerging Technology and Security (CETaS)\, is the Centre’s flagship annual conference\, bringing together senior government officials and leading experts in technology and national security from across academia\, the private sector and civil society – both from the UK and internationally. 
URL:https://pacc-ccap.ca/events/cetas/
CATEGORIES:Conference
ATTACH;FMTTYPE=image/jpeg:https://pacc-ccap.ca/pacc/wp-content/uploads/2024/12/JT-CeTAS.jpg
END:VEVENT
BEGIN:VEVENT
DTSTART;TZID=America/New_York:20250423T074500
DTEND;TZID=America/New_York:20250425T170000
DTSTAMP:20260425T064013
CREATED:20250204T230256Z
LAST-MODIFIED:20250208T115323Z
UID:10000120-1745394300-1745600400@pacc-ccap.ca
SUMMARY:PACC Privacy & Data Governance Congress
DESCRIPTION:Join thought leaders to explore the crossroads of privacy\, access\, governance\, compliance\, law\, and technology and how they matter to you\, your career\, and your organization
URL:https://pacc-ccap.ca/events/congress25-mmc25-z-sp/
LOCATION:University of Ottawa\, Ottawa\, ON\, Canada
CATEGORIES:Conference
END:VEVENT
END:VCALENDAR