BEGIN:VCALENDAR
VERSION:2.0
PRODID:-//Privacy and Access Council of Canada - ECPv6.15.20//NONSGML v1.0//EN
CALSCALE:GREGORIAN
METHOD:PUBLISH
X-ORIGINAL-URL:https://pacc-ccap.ca
X-WR-CALDESC:Events for Privacy and Access Council of Canada
REFRESH-INTERVAL;VALUE=DURATION:PT1H
X-Robots-Tag:noindex
X-PUBLISHED-TTL:PT1H
BEGIN:VTIMEZONE
TZID:Africa/Lusaka
BEGIN:STANDARD
TZOFFSETFROM:+0200
TZOFFSETTO:+0200
TZNAME:CAT
DTSTART:20250101T000000
END:STANDARD
END:VTIMEZONE
BEGIN:VTIMEZONE
TZID:America/Toronto
BEGIN:DAYLIGHT
TZOFFSETFROM:-0500
TZOFFSETTO:-0400
TZNAME:EDT
DTSTART:20250309T070000
END:DAYLIGHT
BEGIN:STANDARD
TZOFFSETFROM:-0400
TZOFFSETTO:-0500
TZNAME:EST
DTSTART:20251102T060000
END:STANDARD
BEGIN:DAYLIGHT
TZOFFSETFROM:-0500
TZOFFSETTO:-0400
TZNAME:EDT
DTSTART:20260308T070000
END:DAYLIGHT
BEGIN:STANDARD
TZOFFSETFROM:-0400
TZOFFSETTO:-0500
TZNAME:EST
DTSTART:20261101T060000
END:STANDARD
BEGIN:DAYLIGHT
TZOFFSETFROM:-0500
TZOFFSETTO:-0400
TZNAME:EDT
DTSTART:20270314T070000
END:DAYLIGHT
BEGIN:STANDARD
TZOFFSETFROM:-0400
TZOFFSETTO:-0500
TZNAME:EST
DTSTART:20271107T060000
END:STANDARD
END:VTIMEZONE
BEGIN:VEVENT
DTSTART;TZID=Africa/Lusaka:20260505T080000
DTEND;TZID=Africa/Lusaka:20260508T170000
DTSTAMP:20260424T145042
CREATED:20250725T214321Z
LAST-MODIFIED:20250725T214326Z
UID:10000205-1777968000-1778259600@pacc-ccap.ca
SUMMARY:RightsCon 26
DESCRIPTION:The 14th edition of the world’s leading summit on human rights in the digital age\, will take place in Lusaka\, Zambia and online\, from Tuesday\, May 5 to Friday\, May 8\, 2026
URL:https://pacc-ccap.ca/events/rightscon-26/
CATEGORIES:Conference
ATTACH;FMTTYPE=image/jpeg:https://pacc-ccap.ca/pacc/wp-content/uploads/2025/07/JT-3.jpg
END:VEVENT
BEGIN:VEVENT
DTSTART;TZID=America/Toronto:20260513T120000
DTEND;TZID=America/Toronto:20260513T130000
DTSTAMP:20260424T145042
CREATED:20260414T170346Z
LAST-MODIFIED:20260414T180641Z
UID:10000240-1778673600-1778677200@pacc-ccap.ca
SUMMARY:CyberPsychology and the Future of Privacy
DESCRIPTION:With more than 90% of cyber attacks exploiting human cognitive vulnerabilities\, it’s clear the battlefield isn’t just technical; it’s psychological.  \n\n\n\nJoin special guest and cyberpsychologist Sumona Banerji to understand how psychology is used to engage users\, why the mind is the most targeted asset\, and how the human mind is the first line of defense when it comes to outmaneuvering digital manipulation\, social engineering\, and cognitive threats—before they happen.
URL:https://pacc-ccap.ca/events/www-cbp/
ATTACH;FMTTYPE=image/jpeg:https://pacc-ccap.ca/pacc/wp-content/uploads/www-cbp.jpg
LOCATION:https://pacc-ccap.ca/events/www-cbp/
END:VEVENT
BEGIN:VEVENT
DTSTART;TZID=America/Toronto:20260514T083000
DTEND;TZID=America/Toronto:20260514T173000
DTSTAMP:20260424T145042
CREATED:20260423T153247Z
LAST-MODIFIED:20260424T160942Z
UID:10000244-1778747400-1778779800@pacc-ccap.ca
SUMMARY:NIST Workshop on AI Incident Management
DESCRIPTION:As AI systems become increasingly integral to critical infrastructure\, cybersecurity\, and national security\, a new class of incidents is emerging where AI systems are both targets and sources of risk. Addressing these challenges may require new methods and coordinated action across government\, industry\, and academia. \n\n\n\nThis workshop will convene leaders from across the AI and cybersecurity stakeholder communities to initiate a shared dialogue on scalable\, mission-aligned approaches to AI incident response.
URL:https://pacc-ccap.ca/events/nist-ai/
CATEGORIES:Conference,Webinar
END:VEVENT
END:VCALENDAR