BEGIN:VCALENDAR
VERSION:2.0
PRODID:-//Privacy and Access Council of Canada - ECPv6.15.20//NONSGML v1.0//EN
CALSCALE:GREGORIAN
METHOD:PUBLISH
X-ORIGINAL-URL:https://pacc-ccap.ca
X-WR-CALDESC:Events for Privacy and Access Council of Canada
REFRESH-INTERVAL;VALUE=DURATION:PT1H
X-Robots-Tag:noindex
X-PUBLISHED-TTL:PT1H
BEGIN:VTIMEZONE
TZID:America/Denver
BEGIN:DAYLIGHT
TZOFFSETFROM:-0700
TZOFFSETTO:-0600
TZNAME:MDT
DTSTART:20250309T090000
END:DAYLIGHT
BEGIN:STANDARD
TZOFFSETFROM:-0600
TZOFFSETTO:-0700
TZNAME:MST
DTSTART:20251102T080000
END:STANDARD
BEGIN:DAYLIGHT
TZOFFSETFROM:-0700
TZOFFSETTO:-0600
TZNAME:MDT
DTSTART:20260308T090000
END:DAYLIGHT
BEGIN:STANDARD
TZOFFSETFROM:-0600
TZOFFSETTO:-0700
TZNAME:MST
DTSTART:20261101T080000
END:STANDARD
BEGIN:DAYLIGHT
TZOFFSETFROM:-0700
TZOFFSETTO:-0600
TZNAME:MDT
DTSTART:20270314T090000
END:DAYLIGHT
BEGIN:STANDARD
TZOFFSETFROM:-0600
TZOFFSETTO:-0700
TZNAME:MST
DTSTART:20271107T080000
END:STANDARD
END:VTIMEZONE
BEGIN:VEVENT
DTSTART;TZID=America/Denver:20260928T080000
DTEND;TZID=America/Denver:20260928T170000
DTSTAMP:20260424T213236
CREATED:20241128T200250Z
LAST-MODIFIED:20241128T200300Z
UID:10000097-1790582400-1790614800@pacc-ccap.ca
SUMMARY:International Right To Know Day
DESCRIPTION:International Right To Know Day is a day to celebrate our right to right to seek and access information. \n\n\n\nRTK Day underscores the importance of being able to know what is happening around us to take action for our safety and improvement.
URL:https://pacc-ccap.ca/events/international-right-to-know-day/2026-09-28/
ATTACH;FMTTYPE=image/jpeg:https://pacc-ccap.ca/pacc/wp-content/uploads/2023/09/Banner-—-RTK-.jpg
END:VEVENT
END:VCALENDAR